BEGIN:VCALENDAR
VERSION:2.0
PRODID:-//https://www.glcr.lu///NONSGML kigkonsult.se iCalcreator 2.10.15//
METHOD:PUBLISH
BEGIN:VEVENT
UID:20201210T165117CET-1586xmOMMR@https://www.glcr.lu/
DTSTAMP:20201210T155117Z
DESCRIPTION:Cet événement est seulement destiné aux membres du comité.  htt
 ps://www.glcr.lu/club/evenements/evenement/140-reunion-comite
DTSTART:20210119T230000Z
LOCATION:Centre Culturel 'Am Duerf' (2\, Fond St. Martin\, L-2135 Luxembour
 g)
SUMMARY:Réunion Comité
URL:https://www.glcr.lu/club/evenements/evenement/140-reunion-comite
END:VEVENT
END:VCALENDAR
