BEGIN:VCALENDAR
VERSION:2.0
PRODID:-//https://www.glcr.lu///NONSGML kigkonsult.se iCalcreator 2.10.15//
METHOD:PUBLISH
BEGIN:VEVENT
UID:20190823T053039CEST-2350Xoth4U@https://www.glcr.lu/
DTSTAMP:20190823T033039Z
DESCRIPTION:Den Teilnehmern werden Grundkenntnisse und weiterführende Kennt
 nisse in den Bereichen:\n• Technisches Basiswissen zu Schiffsmotoren\, Sch
 iffsantrieben\, Getriebe und Generatoren.\n• Fehlerdiagnose\, Wartung von 
 Bootsmotoren\, Generatoren\, Kompressoren und Kühlaggregaten. • Technische
  Unterlagen und Arbeitsabläufe.Schiffseigner und Skipper sollen in die Lag
 e versetzt werden\, Wartung und Reparaturen mit Bordmitteln selbst durchzu
 führen. 1-tägiges Seminar. https://www.glcr.lu/club/evenements/evenement/1
 61-module-12-einbaumotor-elektrik
DTSTART:20160228T083000Z
DTEND:20160228T180000Z
LOCATION:Centre Culturel 'Am Duerf' (2\, Fond St. Martin\, L-2135 Luxembour
 g)
SUMMARY:Module 12 Einbaumotor & Elektrik
URL:https://www.glcr.lu/club/evenements/evenement/161-module-12-einbaumotor
 -elektrik
END:VEVENT
END:VCALENDAR
