BEGIN:VCALENDAR
VERSION:2.0
PRODID:-//https://www.glcr.lu///NONSGML kigkonsult.se iCalcreator 2.10.15//
METHOD:PUBLISH
BEGIN:VEVENT
UID:20190823T053050CEST-0251j91fVk@https://www.glcr.lu/
DTSTAMP:20190823T033050Z
DESCRIPTION:Seminar ab Vlissingen Stadthafen in Holland für alle. Grundlage
 n der Segelstellungen und Trimmmöglichkeiten bei allen Wetterbedingungen\,
  wir vermitteln Ihnen alle wichtigen Kenntnisse zum Segeln unter Spinnaker
  und Gennaker: Theorie\, Ablauf\, Konstruktionen\, Materialien und Aerodyn
 amik\, Spinnakerbaum\, Technik\, Funktioun\, Setzen und Bergen\, Anschlage
 \, Trimmen\, Topnant\, Downhol\,  Schotenbedienung\, Doppelte Spi-Schoten\
 , Verhindern Sonnenschuss / Eieruhr\, Shiften\, Packen\, Spinnakeraufbau u
 nd Trimm. 2 – tägiges Seminar an Bord der SY One Wave Ahead \, max. 8 Pers
 onen und 2 Instructoren. Anreise am Vorabend ab 18 Uhr\, 2 Übernachtungen 
 an Bord. Preis 350€.  https://www.glcr.lu/club/evenements/evenement/168-mo
 dule-6-segeltrimmen-auf-allen-kursen-und-spinnaker
DTSTART:20160924T070000Z
DTEND:20160925T150000Z
LOCATION:Vlissingen\, Stadthafen\, Holland (Visserijkade 1\, 4382 ZA Vlissi
 ngen\, Netherlands)
SUMMARY:Module 6 Segeltrimmen auf allen Kursen und Spinnaker
URL:https://www.glcr.lu/club/evenements/evenement/168-module-6-segeltrimmen
 -auf-allen-kursen-und-spinnaker
END:VEVENT
END:VCALENDAR
