BEGIN:VCALENDAR
VERSION:2.0
PRODID:-//https://www.glcr.lu///NONSGML kigkonsult.se iCalcreator 2.10.15//
METHOD:PUBLISH
BEGIN:VEVENT
UID:20190823T053145CEST-8741Rn4s6m@https://www.glcr.lu/
DTSTAMP:20190823T033145Z
DESCRIPTION:Inscription réservée aux skippers et co-skippers. Événement nau
 tique organisé en étroite collaboration avec le Service National de la Jeu
 nesse pour les lycées du territoire luxembourgeois. L'inscription finale r
 este à valider par le comité d'organisation. Plus d'informations sur https
 ://www.regatta.lu  https://www.glcr.lu/club/evenements/evenement/188-regat
 ta-sailing-schools-2017
DTSTART:20170416T200000Z
DTEND:20170422T200000Z
LOCATION:Trinité-sur-Mer\, Baie de Quiberon\, Morbihan\, Bretagne-Sud (La T
 rinité-sur-Mer\, France)
SUMMARY:Regatta - Sailing Schools 2017
URL:https://www.glcr.lu/club/evenements/evenement/188-regatta-sailing-schoo
 ls-2017
END:VEVENT
END:VCALENDAR
