BEGIN:VCALENDAR
VERSION:2.0
PRODID:-//https://www.glcr.lu///NONSGML kigkonsult.se iCalcreator 2.10.15//
METHOD:PUBLISH
BEGIN:VEVENT
UID:20190823T053015CEST-3303h3gvJI@https://www.glcr.lu/
DTSTAMP:20190823T033015Z
DESCRIPTION:Das UKW-Sprechfunkzeugnis für den Binnenschifffahrtsfunk (UBI) 
 eignet sich für sicherheitsbewusste BinnenschifferInnen auf Segel- oder Mo
 toryachten welche per Funk die Verbindung zu anderen Schiffen oder Revierz
 entralen an Land aufrechterhalten möchten und mit ihrem Schiff 'binnen der
  Grenzen der Seefahrt' bleiben.\nDas Short Range Certificate (SRC) erlaubt
  die Ausübung des Seefunkdienstes auf Sportschiffen im weltweiten Seenot- 
 und Sicherheitsfunksystem GMDSS (Global Maritime Distress and Safety Syste
 m) auf Ultrakurzwelle (UKW) unter Benutzung von UKW-Funkanlage\, DSC-Contr
 oller\, EPIRB\, SART\, NAVTEX und Handsprechfunkgerät. Dieses Zeugnis eign
 et sich für sicherheitsbewusste NautikerInnen auf Segel- oder Motoryachten
  welche die Verbindung zu anderen Schiffen oder zu Küstenfunkstellen in ei
 nem Bereich von ca. 20 bis 50 sm aufrechterhalten möchten und sich mit ihr
 em Schiff somit hauptsächlich im Küstenbereich bewegen. https://www.glcr.l
 u/club/evenements/evenement/190-module-1-ubi-src-kurs-2-inscription
DTSTART:20170108T080000Z
DTEND:20170108T130000Z
LOCATION:Bonnevoie (2 Rue des Ardennes\, 1133 Luxembourg\, Luxembourg)
SUMMARY:Module 1 UBI + SRC Kurs 2 (inscription)
URL:https://www.glcr.lu/club/evenements/evenement/190-module-1-ubi-src-kurs
 -2-inscription
END:VEVENT
END:VCALENDAR
