BEGIN:VCALENDAR
VERSION:2.0
PRODID:-//https://www.glcr.lu///NONSGML kigkonsult.se iCalcreator 2.10.15//
METHOD:PUBLISH
BEGIN:VEVENT
UID:20190823T053104CEST-3168GXceEd@https://www.glcr.lu/
DTSTAMP:20190823T033104Z
DESCRIPTION:Eintägige Lernreise\, angeboten von der deutschen Johanniter-Un
 fall-Hilfe\, bei der die wichtigsten Leitsymptome der Ersten Hilfe und die
  erfolderlichen Maßnahmen kennengelernt werden. Unter anderem werden folge
 nde Themen angeschnitten:\n\nVorgehen bei einem Notfall\nBewusstlosigkeit 
 (z.B. stabile Seitenlage)\nAusgesetzte Atmung (z.B. Herz-Lungen-Wiederbele
 bung)\n'Probleme in der Brust' (z.B. Herzinfarkt)\nVerletzungen (z.B. Stil
 len bedrohlicher Blutungen)\n\nDer Erste-Hilfe-Kurs ist den Bedingungen au
 f einem Segelboot angepasst und soll segelspezifische Notfälle abdecken. D
 ie Ausbildungsabteilung der deutschen Johanniter-Unfall-Hilfe ist seit 201
 1 vom TÜV zertifiziert und ist international anerkannt. Maximal 15 Teilneh
 mern. https://www.glcr.lu/club/evenements/evenement/203-module-2-erste-hil
 fe-an-bord-3
DTSTART:20170218T080000Z
DTEND:20170218T153000Z
LOCATION:Centre Culturel 'Am Duerf' (2\, Fond St. Martin\, L-2135 Luxembour
 g)
SUMMARY:Module 2: erste Hilfe an Bord (3)
URL:https://www.glcr.lu/club/evenements/evenement/203-module-2-erste-hilfe-
 an-bord-3
END:VEVENT
END:VCALENDAR
