BEGIN:VCALENDAR
VERSION:2.0
PRODID:-//https://www.glcr.lu///NONSGML kigkonsult.se iCalcreator 2.10.15//
METHOD:PUBLISH
BEGIN:VEVENT
UID:20190823T053118CEST-069721hH45@https://www.glcr.lu/
DTSTAMP:20190823T033118Z
DESCRIPTION:Le cours pour le certificat A – Mer\, équipier compétent\, se d
 éroule « embarqué » sur des voiliers habitables en Zeelande (NL) à Bruinis
 se. Le programme théorique traite des sujets suivants:\n\nTerminologie der
  Segelyacht.\nWahrer Wind\, Kurse zum Wind\, Segelsetzen\, Festmachen.\nWe
 nden\, Halsen\, Sicherheitsmassnahmen\, Verhalten in Häfen.\nAntrieb\, Sta
 bilität\, Segeltrimm\, Ankern.\nVie à bord\, Knoten\, Seekrankheit.\n\nPou
 r la pratique\, selon la météo\, des sorties en Grevelingenmeer sont prévu
 es. https://www.glcr.lu/club/evenements/evenement/214-certificat-de-capaci
 te-a-mer
DTSTART:20170930T080000Z
DTEND:20171001T150000Z
LOCATION:Bruinisse\, Pays-Bas (4311 Bruinisse\, The Netherlands)
SUMMARY:Certificat de capacité A-Mer
URL:https://www.glcr.lu/club/evenements/evenement/214-certificat-de-capacit
 e-a-mer
END:VEVENT
END:VCALENDAR
