BEGIN:VCALENDAR
VERSION:2.0
PRODID:-//https://www.glcr.lu///NONSGML kigkonsult.se iCalcreator 2.10.15//
METHOD:PUBLISH
BEGIN:VEVENT
UID:20190823T053109CEST-7689rujLVo@https://www.glcr.lu/
DTSTAMP:20190823T033109Z
DESCRIPTION:\ninternationales Seerecht\ninternationaler Funkverkehr\nintern
 ationales Zollrecht\nPhysik des Segelns\nEinwirkung des Seegangs aufs Schi
 ff\nSchiffskonstruktion  Unterrichtsbeginn Sa u So 10.00 bis 19.00. Ziel d
 ieses Kurses ist zum einen die einzelen Schiffkonstruktionen kennen zu ler
 nen und die pysikalischen Einwirkungen auf das Schiff\, zum anderen aber a
 uch die internationalen Rechte und Pflichten bei Langfahrten. Der Kursus w
 ird mit einer kleinen Prüfung abgeschlossen. Max 15 Teilnehmer\n https://w
 ww.glcr.lu/club/evenements/evenement/221-module-10-theorie-zertifikat-c
DTSTART:20180113T090000Z
DTEND:20180114T180000Z
LOCATION:Centre Culturel 'Am Duerf' (2\, Fond St. Martin\, L-2135 Luxembour
 g)
SUMMARY:Module 10 Theorie Zertifikat C
URL:https://www.glcr.lu/club/evenements/evenement/221-module-10-theorie-zer
 tifikat-c
END:VEVENT
END:VCALENDAR
