BEGIN:VCALENDAR
VERSION:2.0
PRODID:-//https://www.glcr.lu///NONSGML kigkonsult.se iCalcreator 2.10.15//
METHOD:PUBLISH
BEGIN:VEVENT
UID:20190823T053113CEST-5215DMCcbA@https://www.glcr.lu/
DTSTAMP:20190823T033113Z
DESCRIPTION:Was ist als Schiffsführer an Bord einer Yacht zu tun\, wenn bei
  Crewmitgliedern auf See ernsthafte Verletzungen oder Erkrankungen auftret
 en\n\nFatique\nRichtige Ernährung auf Langfahrten und Regatten\nrechtzeiti
 ges erkennen von Ausfällen im der Crew\nOptimierung der Physischen Leitung
 sfähigkeit\nNotfallversorgung von Verletzten\nHypothermie\nNotfallkommunik
 ation mit MRCC - Massnahmen\nFeststellen der Diagnose\nBehandlung von Verl
 etzten\nWunden nähen\nInfusionen anlegen\, Spritzen\, Blutabnehmen etc.\nA
 uswerten der Körperdaten\nGefahren im Wasser (Giftige Algen und Fische)\nA
 bgabe der verletzten Person\n\nBeginn SA u. SO  10 bis 19 Uhr\, max 15 Tei
 lnehmer. Für diesen Lehrgang können wir ein ISAF/World Sailing Certificat 
 ausstellen lassen nach der World Sailing Gebührenordnung. https://www.glcr
 .lu/club/evenements/evenement/224-module-17-medizinische-notversorgung-auf
 -langstrecken
DTSTART:20180203T090000Z
DTEND:20180204T180000Z
LOCATION:Centre Culturel 'Am Duerf' (2\, Fond St. Martin\, L-2135 Luxembour
 g)
SUMMARY:Module 17 Medizinische Notversorgung auf Langstrecken
URL:https://www.glcr.lu/club/evenements/evenement/224-module-17-medizinisch
 e-notversorgung-auf-langstrecken
END:VEVENT
END:VCALENDAR
