BEGIN:VCALENDAR
VERSION:2.0
PRODID:-//https://www.glcr.lu///NONSGML kigkonsult.se iCalcreator 2.10.15//
METHOD:PUBLISH
BEGIN:VEVENT
UID:20190823T053034CEST-6356EzVBrw@https://www.glcr.lu/
DTSTAMP:20190823T033034Z
DESCRIPTION:Seminar für Skipper und Co-Skipper. Reiner Praxiskurs zur Verti
 efung  der Kenntnisse. Es ist zwischen Schlechtwetter oder Segeltrimmen au
 szuwählen so dass der Schwerpunkt dieses Wochenendes auf die Bedürfnisse d
 er Teilnehmer angepasst werden kann:\nA) Schlechtwetter\n• Verhalten bei S
 tarkwind und Sturm • Beiliegen\, Beidrehen\, Abwettern • Sturmbesegelung\,
  Trysegel • MOB • Wetterbeobachtung und -auswertung • Nachtfahrten • Einsa
 tz von Rettungsmitteln • Hilfeleistung zu Havaristen • Funkverkehr • Helik
 opterbergung\nB) Segeltrimmen\nGrundlagen der Segelstellungen und Trimmmög
 lichkeiten bei allen Wetterbedingungen\, wir vermitteln Ihnen alle wichtig
 en Kenntnisse zum Segeln unter Spinnaker und Gennaker: Theorie\, Ablauf\, 
 Konstruktionen\, Materialien und Aerodynamik\, Spinnakerbaum\, Technik\, F
 unktioun\, Setzen und Bergen\, Anschlage\, Trimmen\, Topnant\, Downhol\,  
 Schotenbedienung\, Doppelte Spi-Schoten\, Verhindern Sonnenschuss / Eieruh
 r\, Shiften\, Packen\, Spinnakeraufbau und Trimm\nZahlreiche praktische Üb
 ungen. Wir führen dieses Training unter normalen Wetterbedingungen durch\,
  auch bei Starkwind\, allerdings nicht bei Sturmstärken und orkanartigen W
 indverhältnissen. Dies ist einfach eine Einstellung zur guten fachlichen S
 eemannschaft\, nach der man Schiff und Mannschaft nicht fahrlässig in Gefa
 hr bringt. 2 – tägiges Seminar an Bord der  SY One Wave Ahead\, max. 8 Per
 sonen und 2 Instructoren. Anreise am Vorabend ab 18 Uhr\, 2 Übernachtungen
  an Bord. https://www.glcr.lu/club/evenements/evenement/244-module-11-6-sc
 hlechtwettersegeln-segeltrimmen
DTSTART:20190504T070000Z
DTEND:20190505T150000Z
LOCATION:Middelburg Stadthafen (Maisbaai\, 4331 Middelburg\, Netherlands)
SUMMARY:Module 11&6 Schlechtwettersegeln/Segeltrimmen
URL:https://www.glcr.lu/club/evenements/evenement/244-module-11-6-schlechtw
 ettersegeln-segeltrimmen
END:VEVENT
END:VCALENDAR
