BEGIN:VCALENDAR
VERSION:2.0
PRODID:-//https://www.glcr.lu///NONSGML kigkonsult.se iCalcreator 2.10.15//
METHOD:PUBLISH
BEGIN:VEVENT
UID:20190823T053139CEST-5865xHXiu3@https://www.glcr.lu/
DTSTAMP:20190823T033139Z
DESCRIPTION:Inscription réservée aux skippers et co-skippers. Événement nau
 tique organisé en étroite collaboration avec le Service National de la Jeu
 nesse pour les lycées du territoire luxembourgeois. L'inscription finale r
 este à valider par le comité d'organisation. https://www.glcr.lu/club/even
 ements/evenement/247-regatta-sailing-schools-2019
DTSTART:20190407T200000Z
DTEND:20190413T060000Z
LOCATION:Trinité-sur-Mer\, Baie de Quiberon\, Morbihan\, Bretagne-Sud (La T
 rinité-sur-Mer\, France)
SUMMARY:Regatta - Sailing Schools 2019
URL:https://www.glcr.lu/club/evenements/evenement/247-regatta-sailing-schoo
 ls-2019
END:VEVENT
END:VCALENDAR
