BEGIN:VCALENDAR
VERSION:2.0
PRODID:-//https://www.glcr.lu///NONSGML kigkonsult.se iCalcreator 2.10.15//
METHOD:PUBLISH
BEGIN:VEVENT
UID:20190823T053142CEST-7162NbrKFe@https://www.glcr.lu/
DTSTAMP:20190823T033142Z
DESCRIPTION:À choisir son option via 'ajouter ticket': Option 1: Transport 
 par Bus (élèves) rendez-vous dimanche\, le 7 avril 2019 à 20:40 sur le par
 king du Petit Glacis\, départ avec deux autocars de 'Voyages Emile Weber'\
 , retour samedi\, le 13 avril le matin. Option 2: Minibus du COSL (3 x 6 p
 ersonnes) en direction de Lorient\,  rendez-vous samedi\, le 6 avril 2019 
 à 8:00 sur le Park&amp\;Ride du Centre Douanier à Howald\, retour dimanche
 \, le 14 avril 2019 le soir. Option 3: en privé par vos propres moyens\, g
 ratuit. https://www.glcr.lu/club/evenements/evenement/249-transport-skippe
 r-co-regatta-sailing-schools
DTSTART:20190407T060000Z
DTEND:20190413T190000Z
LOCATION:Trinité-sur-Mer\, Baie de Quiberon\, Morbihan\, Bretagne-Sud (La T
 rinité-sur-Mer\, France)
SUMMARY:Transport Skipper&Co Regatta-Sailing Schools
URL:https://www.glcr.lu/club/evenements/evenement/249-transport-skipper-co-
 regatta-sailing-schools
END:VEVENT
END:VCALENDAR
