BEGIN:VCALENDAR
VERSION:2.0
PRODID:-//https://www.glcr.lu///NONSGML kigkonsult.se iCalcreator 2.10.15//
METHOD:PUBLISH
BEGIN:VEVENT
UID:20190823T053131CEST-3680psmhbv@https://www.glcr.lu/
DTSTAMP:20190823T033131Z
DESCRIPTION:aura lieu au Restaurant - Pizzeria La Farinella 13 rue Edward S
 teichen Kirchberg L-2540 Luxembourg. Le début de la réunion est prévu pour
  19:00. Après la présentation des Skippers et des Co-Skippers suit la répa
 rtition des équipages. Les Skippers et les Co-Skippers encadreront ensuite
  les équipages pendant le dîner\, qui sera servi à partir de 20:00. Le men
 u et et les boisssons sont à régler au restaurant. Délai d'inscription: Je
 udi\, le 25 avril 2019.\n\nÀ la Carte\nNon-participation\nParticipe sans m
 anger\n https://www.glcr.lu/club/evenements/evenement/259-reunion-stage-de
 -pentecote
DTSTART:20190508T170000Z
DTEND:20190508T215900Z
LOCATION:Restaurant - Pizzeria La Farinella 13 rue Edward Steichen Kirchber
 g L-2540 Luxembourg (13 rue Edward Steichen L-2540 Luxembourg)
SUMMARY:Reunion Stage de Pentecôte
URL:https://www.glcr.lu/club/evenements/evenement/259-reunion-stage-de-pent
 ecote
END:VEVENT
END:VCALENDAR
