BEGIN:VCALENDAR
VERSION:2.0
PRODID:-//https://www.glcr.lu///NONSGML kigkonsult.se iCalcreator 2.10.15//
METHOD:PUBLISH
BEGIN:VEVENT
UID:20200125T121709CET-5091HF3a52@https://www.glcr.lu/
DTSTAMP:20200125T111709Z
DESCRIPTION:Vous trouvez l'ordre du jour sur l'invitation. L'Assemblée Géné
 rale sera suivie comme chaque année de notre DÎNER AMICAL. Au Menu : - Cho
 ucroute garnie\, pommes de terre rôties et salade – Tarte et café. Pour as
 surer le bon déroulement de la soirée\, les intéressé(e)s sont prié(e)s de
  s’inscrire. Fin des inscriptions: mardi\, le 21 janvier 2020. L’entrée es
 t gratuite par contre le dîner amical de 24 € par personne est à régler vi
 a l’inscription. Les boissons consommées pendant le dîner seront offertes 
 par le club. Vous avez le choix entre 'Dîner Amical' ou 'Pas de dîner Amic
 al’. Vous pouvez inscrire vous même et autres personnes en ajoutant simple
 ment des billets. Si entretemps vous aimez changer vos inscriptions\, vous
  devez vous désabonner pour annuler l'inscription auparavant et puis saisi
 r une nouvelle inscription en ajoutant les billets souhaités. Pour des rai
 sons de l'organisation\, la clôture des inscriptions et des modifications 
 (via désabonner) est fixée au 21 janvier 2020. Dans l'espoir de vous retro
 uver nombreux le 27 janvier 2020\, nous vous saluons amicalement. Le comit
 é https://www.glcr.lu/club/evenements/evenement/263-assemblee-generale-ord
 inaire
DTSTART:20200127T183000Z
DTEND:20200127T225900Z
LOCATION:Centre Culturel 'Am Duerf' (2\, Fond St. Martin\, L-2135 Luxembour
 g)
SUMMARY:Assemblée Générale Ordinaire 
URL:https://www.glcr.lu/club/evenements/evenement/263-assemblee-generale-or
 dinaire
END:VEVENT
END:VCALENDAR
