BEGIN:VCALENDAR
VERSION:2.0
PRODID:-//https://www.glcr.lu///NONSGML kigkonsult.se iCalcreator 2.10.15//
METHOD:PUBLISH
BEGIN:VEVENT
UID:20210722T025946CEST-9331UH5SW0@https://www.glcr.lu/
DTSTAMP:20210722T005946Z
DESCRIPTION:Regatta.lu est un événement nautique\, une compétition sportive
  en mer\, inscrite dans le calendrier officiel de la Fédération Luxembourg
 eoise de Voile (FLV)\, organisé par le Groupe Luxembourgeois de Croisière 
 et de Régate (GLCR) en étroite collaboration avec le Service National de l
 a Jeunesse (SNJ) et sous le parrainage du Ministère des Sports et du Minis
 tère de l’éducation nationale. La régate est dirigée par un comité de cour
 se de la Fédération Luxembourgeoise de Voile.\nLes catégories d'équipier d
 ébutant et compétent s’adressent à tous les candidats ou ex-candidats Perm
 is Mer\, qui souhaitent participer à l’événement dans un équipage avec d’a
 utres candidats. Deux jours de participation à la régate sont garantis. La
  formation pratique Permis Mer commence le 3e jour. Dans la mesure du poss
 ible il sera tenu compte des souhaits des participants quant à la composit
 ion de l’équipage. Les frais de participation s’élèvent à 710 € par person
 ne\, compris dans le prix le ravitaillement complet du lundi matin à vendr
 edi midi ainsi une rallonge du 4.9 au 5.9.2020 sans ravitaillement. Pas co
 mpris est le transport aller/retour de Luxembourg à la baie de Quiberon\, 
 embarquement dimanche\, le 29 août au soir possible.  https://www.glcr.lu/
 club/evenements/evenement/284-regatta-lu-2021
DTSTART:20210829T200000Z
DTEND:20210904T060000Z
LOCATION:Port Haliguen (56170 Quiberon\, France)
SUMMARY:REGATTA.LU 2021
URL:https://www.glcr.lu/club/evenements/evenement/284-regatta-lu-2021
END:VEVENT
BEGIN:VEVENT
UID:20210722T025946CEST-9344b3Cc0B@https://www.glcr.lu/
DTSTAMP:20210722T005946Z
DESCRIPTION:Les deux bus sont en principe réservés pour les élèves et leur 
 encadrement. Si les mesures de pandémie le permettent\, des places libres 
 pourront être proposées à des participants adultes ou étudiants au prix de
  120€ pour l'aller et retour. Vous êtes priés de virer les 120€ seulement 
 à la réception d'un email de notre part que les autorités nous permettent 
 le transport d'un plus grand nombre de personnes dans nos deux bus. Cette 
 information pourra vous parvenir une semaine avant votre départ donc avoir
  un plan B pour votre transport serait prudent.\nLe transport en bus du Lu
 xembourg à Port-Haliguen (Quiberon) se fait depuis le Glacis. Le départ es
 t prévu le soir du dimanche\, 29 août 2021 et le retour se fait dans la nu
 it du 3 au 4 septembre 2021. https://www.glcr.lu/club/evenements/evenement
 /290-transport-bus-regatta-lu-2021
DTSTART:20210829T200000Z
DTEND:20210904T060000Z
LOCATION:Port Haliguen (56170 Quiberon\, France)
SUMMARY:Transport Bus Regatta.lu 2021
URL:https://www.glcr.lu/club/evenements/evenement/290-transport-bus-regatta
 -lu-2021
END:VEVENT
END:VCALENDAR
