BEGIN:VCALENDAR
VERSION:2.0
PRODID:-//https://www.glcr.lu///NONSGML kigkonsult.se iCalcreator 2.10.15//
METHOD:PUBLISH
BEGIN:VEVENT
UID:20210722T094516CEST-7720FNFOuL@https://www.glcr.lu/
DTSTAMP:20210722T074516Z
DESCRIPTION:Cet événement est seulement destiné aux membres du comité.  htt
 ps://www.glcr.lu/club/evenements/evenement/140-reunion-comite
DTSTART:20210913T163000Z
DTEND:20210913T190000Z
LOCATION:Home (Home)
SUMMARY:Réunion Comité
URL:https://www.glcr.lu/club/evenements/evenement/140-reunion-comite
END:VEVENT
END:VCALENDAR
