BEGIN:VCALENDAR
VERSION:2.0
PRODID:-//https://www.glcr.lu///NONSGML kigkonsult.se iCalcreator 2.10.15//
METHOD:PUBLISH
BEGIN:VEVENT
UID:20210722T101355CEST-16068Xueni@https://www.glcr.lu/
DTSTAMP:20210722T081355Z
DESCRIPTION:Le stage d’automne 2021 du GLCR se déroulera en Croatie au dépa
 rt de Biograd (Marina Kornati) du 2 au 9 octobre 2021. Le stage s’adresse 
 :\n\naux débutants de la voile\naux détenteurs d’un permis de voile (certi
 ficat A)\naux candidats pour permis mer et certificat B\naux détenteurs d’
 un permis mer en quête de compétences et expériences supplémentaires\naux 
 skippers de flottille et leurs équipages\n https://www.glcr.lu/club/evenem
 ents/evenement/286-stage-en-croatie
DTSTART:20211002T140000Z
DTEND:20211009T070000Z
LOCATION:Biograd Marina Kornati (Marina Kornati\, Setaliste Kneza Branimira
  1\, HR-23210 Biograd na Moru)
SUMMARY:Stage en Croatie
URL:https://www.glcr.lu/club/evenements/evenement/286-stage-en-croatie
END:VEVENT
END:VCALENDAR
