BEGIN:VCALENDAR
VERSION:2.0
PRODID:-//https://www.glcr.lu///NONSGML kigkonsult.se iCalcreator 2.10.15//
METHOD:PUBLISH
BEGIN:VEVENT
UID:20210722T101448CEST-1668pT0VPT@https://www.glcr.lu/
DTSTAMP:20210722T081448Z
DESCRIPTION:Das UKW-Sprechfunkzeugnis für den Binnenschifffahrtsfunk (UBI) 
 eignet sich für sicherheitsbewusste BinnenschifferInnen auf Segel- oder Mo
 toryachten welche per Funk die Verbindung zu anderen Schiffen oder Revierz
 entralen an Land aufrechterhalten möchten und mit ihrem Schiff 'binnen der
  Grenzen der Seefahrt' bleiben.\nDas Short Range Certificate (SRC) erlaubt
  die Ausübung des Seefunkdienstes auf Sportschiffen im weltweiten Seenot- 
 und Sicherheitsfunksystem GMDSS (Global Maritime Distress and Safety Syste
 m) auf Ultrakurzwelle (UKW) unter Benutzung von UKW-Funkanlage\, DSC-Contr
 oller\, EPIRB\, SART\, NAVTEX und Handsprechfunkgerät. Dieses Zeugnis eign
 et sich für sicherheitsbewusste NautikerInnen auf Segel- oder Motoryachten
  welche die Verbindung zu anderen Schiffen oder zu Küstenfunkstellen in ei
 nem Bereich von ca. 20 bis 50 sm aufrechterhalten möchten und sich mit ihr
 em Schiff somit hauptsächlich im Küstenbereich bewegen.\nKursleiter: Patri
 ck Biwer. https://www.glcr.lu/club/evenements/evenement/291-module-1-ubi-s
 rc-kurs1
DTSTART:20211013T170000Z
DTEND:20211013T190000Z
LOCATION:Centre Culturel 'Am Duerf' (2\, Fond St. Martin\, L-2135 Luxembour
 g)
SUMMARY:Module 1 UBI + SRC Kurs1
URL:https://www.glcr.lu/club/evenements/evenement/291-module-1-ubi-src-kurs
 1
END:VEVENT
END:VCALENDAR
