BEGIN:VCALENDAR
VERSION:2.0
PRODID:-//https://www.glcr.lu///NONSGML kigkonsult.se iCalcreator 2.10.15//
METHOD:PUBLISH
BEGIN:VEVENT
UID:20201210T165620CET-3895VaWkp6@https://www.glcr.lu/
DTSTAMP:20201210T155620Z
DESCRIPTION:Une réunion exclusivement réservée aux skippers et co-skippers 
 pour organiser la saison 2021. https://www.glcr.lu/club/evenements/eveneme
 nt/274-skipperspool-meeting
DTSTART:20201206T230000Z
LOCATION:Centre Sportif\, Culturel et Scolaire 'Tramsschapp' (49 Rue Ermesi
 nde\, L-1469 Luxembourg)
SUMMARY:Skipperspool Meeting
URL:https://www.glcr.lu/club/evenements/evenement/274-skipperspool-meeting
END:VEVENT
BEGIN:VEVENT
UID:20201210T165620CET-3900uxdG0J@https://www.glcr.lu/
DTSTAMP:20201210T155620Z
DESCRIPTION:Réunion Skipperspool par VISIOCONFERENCE. Cette réunion est rés
 ervée pour les skippers et les co-skippers intéressés à encadrer nos stage
 s ou notre régatte en 2021. Si vous n'avez pas accès à l'inscription\, env
 oyez un mail à Serge Courtois https://www.glcr.lu/club/evenements/evenemen
 t/285-skipperspool-meeting
DTSTART:20201207T183000Z
DTEND:20201207T200000Z
LOCATION:Home (Home)
SUMMARY:Skipperspool Meeting
URL:https://www.glcr.lu/club/evenements/evenement/285-skipperspool-meeting
END:VEVENT
END:VCALENDAR
