BEGIN:VCALENDAR
VERSION:2.0
PRODID:-//https://www.glcr.lu///NONSGML kigkonsult.se iCalcreator 2.10.15//
METHOD:PUBLISH
BEGIN:VEVENT
UID:20210722T101515CEST-6235iNxm3s@https://www.glcr.lu/
DTSTAMP:20210722T081515Z
DESCRIPTION:Le permis MER (émis par le Ministère de l'Economie et du Commer
 ce Extérieur) est le seul permis obligatoire autorisant la conduite d’un n
 avire de plaisance sous pavillon luxembourgeois. Il autorise la conduite d
 es bateaux et des navires de plaisance battant le pavillon maritime luxemb
 ourgeois en eaux maritimes sans limites de zone (côtier et hauturier). La 
 matière traitée dans les cours concerne avant tout le comportement sur l'e
 au (règles de barre et de route\, la conduite au sein des balisages\, iden
 tifier les types et routes de vaisseaux le jour et la nuit) la transmissio
 n des connaissances approfondies en navigation côtière et en météo. Le per
 mis CÔTIER PLUS autorise son titulaire à conduire un navire de plaisance d
 e 20 mètres au plus en eaux maritimes jusqu'à six milles nautiques des côt
 es.\n  https://www.glcr.lu/club/evenements/evenement/289-permis-mer-et-cot
 ier-plus
DTSTART:20211019T163000Z
DTEND:20211019T190000Z
LOCATION:Lycée Josy Barthel Mamer (2\, rue Gaston Thorn\, L-8268 Mamer)
SUMMARY:Permis MER et COTIER PLUS    
URL:https://www.glcr.lu/club/evenements/evenement/289-permis-mer-et-cotier-
 plus
END:VEVENT
END:VCALENDAR
