BEGIN:VCALENDAR
VERSION:2.0
PRODID:-//https://www.glcr.lu///NONSGML kigkonsult.se iCalcreator 2.10.15//
METHOD:PUBLISH
BEGIN:VEVENT
UID:20211007T005552CEST-23051fu8Zz@https://www.glcr.lu/
DTSTAMP:20211006T225552Z
DESCRIPTION:Cet événement est seulement destiné aux membres du comité.  htt
 ps://www.glcr.lu/component/rseventspro/evenement/140-reunion-comite
DTSTART:20211020T163000Z
DTEND:20211020T190000Z
LOCATION:Home (Home)
SUMMARY:Réunion Comité
URL:https://www.glcr.lu/component/rseventspro/evenement/140-reunion-comite
END:VEVENT
END:VCALENDAR
