BEGIN:VCALENDAR
VERSION:2.0
PRODID:-//https://www.glcr.lu///NONSGML kigkonsult.se iCalcreator 2.10.15//
METHOD:PUBLISH
BEGIN:VEVENT
UID:20200125T122337CET-0728EVf9O7@https://www.glcr.lu/
DTSTAMP:20200125T112337Z
DESCRIPTION:Cet événement est seulement destiné aux membres du comité.  htt
 ps://www.glcr.lu/component/rseventspro/evenement/140-reunion-comite?Itemid
 =145
DTSTART:20200205T230000Z
LOCATION:Centre Culturel 'Am Duerf' (2\, Fond St. Martin\, L-2135 Luxembour
 g)
SUMMARY:Réunion Comité
URL:https://www.glcr.lu/component/rseventspro/evenement/140-reunion-comite?
 Itemid=145
END:VEVENT
END:VCALENDAR
