BEGIN:VCALENDAR
VERSION:2.0
PRODID:-//https://www.glcr.lu///NONSGML kigkonsult.se iCalcreator 2.10.15//
METHOD:PUBLISH
BEGIN:VEVENT
UID:20200125T122302CET-1829mDAuVl@https://www.glcr.lu/
DTSTAMP:20200125T112302Z
DESCRIPTION:Inscription réservée aux skippers et co-skippers possible à par
 tir du 15.9.2019. Événement nautique organisé en étroite collaboration ave
 c le Service National de la Jeunesse pour les lycées du territoire luxembo
 urgeois. L'inscription finale reste à valider par le comité d'organisation
 . https://www.glcr.lu/component/rseventspro/evenement/262-regatta-sailing-
 schools-2020?Itemid=145
DTSTART:20200412T200000Z
DTEND:20200418T060000Z
LOCATION:Port Haliguen (56170 Quiberon\, France)
SUMMARY:Regatta - Sailing Schools 2020
URL:https://www.glcr.lu/component/rseventspro/evenement/262-regatta-sailing
 -schools-2020?Itemid=145
END:VEVENT
END:VCALENDAR
