BEGIN:VCALENDAR
VERSION:2.0
PRODID:-//https://www.glcr.lu///NONSGML kigkonsult.se iCalcreator 2.10.15//
METHOD:PUBLISH
BEGIN:VEVENT
UID:20200125T122315CET-4739NxGBxo@https://www.glcr.lu/
DTSTAMP:20200125T112315Z
DESCRIPTION:Le week-end du 4 et 5 avril 2020\, le GLCR organise à Bruinisse
  un stage 'Manœuvres sous moteur dans un port étroit'. Le samedi\, les par
 ticipants apprendront à manœuvrer un voilier habitable en toute sécurité\,
  même en présence d'un vent fort\, dans les couloirs étroits des ports et 
 dans les écluses. Le dimanche est réservé à l'entraînement des manœuvres a
 pprises. Ce stage est ouvert aux navigateurs ayant suivi le cours du Permi
 s Catégorie 2 ou du Permis Mer. https://www.glcr.lu/component/rseventspro/
 evenement/265-stage-manoeuvres-sous-moteur?Itemid=145
DTSTART:20200404T080000Z
DTEND:20200405T140000Z
LOCATION:Bruinisse\, Pays-Bas (4311 Bruinisse\, The Netherlands)
SUMMARY:Stage Manoeuvres sous Moteur
URL:https://www.glcr.lu/component/rseventspro/evenement/265-stage-manoeuvre
 s-sous-moteur?Itemid=145
END:VEVENT
END:VCALENDAR
