BEGIN:VCALENDAR
VERSION:2.0
PRODID:-//https://www.glcr.lu///NONSGML kigkonsult.se iCalcreator 2.10.15//
METHOD:PUBLISH
BEGIN:VEVENT
UID:20200125T122250CET-9235PSl6tj@https://www.glcr.lu/
DTSTAMP:20200125T112250Z
DESCRIPTION:Le cours pour le certificat A – Mer\, équipier compétent\, se d
 éroule « embarqué » sur des voiliers habitables en Zeelande (NL) à Bruinis
 se. Le programme théorique traite des sujets suivants:\n\nTerminologie der
  Segelyacht.\nWahrer Wind\, Kurse zum Wind\, Segelsetzen\, Festmachen.\nWe
 nden\, Halsen\, Sicherheitsmassnahmen\, Verhalten in Häfen.\nAntrieb\, Sta
 bilität\, Segeltrimm\, Ankern.\nVie à bord\, Knoten\, Seekrankheit.\n\nPou
 r la pratique\, selon la météo\, des sorties en Grevelingenmeer sont prévu
 es. https://www.glcr.lu/component/rseventspro/evenement/266-certificat-de-
 capacite-a-mer?Itemid=145
DTSTART:20200516T080000Z
DTEND:20200517T150000Z
LOCATION:Bruinisse\, Pays-Bas (4311 Bruinisse\, The Netherlands)
SUMMARY:Certificat de capacité A-Mer
URL:https://www.glcr.lu/component/rseventspro/evenement/266-certificat-de-c
 apacite-a-mer?Itemid=145
END:VEVENT
END:VCALENDAR
