BEGIN:VCALENDAR
VERSION:2.0
PRODID:-//https://www.glcr.lu///NONSGML kigkonsult.se iCalcreator 2.10.15//
METHOD:PUBLISH
BEGIN:VEVENT
UID:20200125T122006CET-0931gT43M4@https://www.glcr.lu/
DTSTAMP:20200125T112006Z
DESCRIPTION:Le stage s’adresse : \n\naux débutants de la voile\naux détente
 urs d’un permis de voile (certificat A)\naux candidats pour permis mer et 
 certificat B\naux détenteurs d’un permis mer en quête de compétences et ex
 périences supplémentaires\naux skippers de flottille et leurs équipages\n
 \nPour plus d'infos cliquez ici. https://www.glcr.lu/component/rseventspro
 /evenement/267-stage-en-croatie?Itemid=145
DTSTART:20201003T140000Z
DTEND:20201010T070000Z
LOCATION:Zadar Croatie (ACI Marina Zadar Tankerkomerc\, Ul. Ivana Meštrović
 a 3\, 23000\, Zadar\, Croatia)
SUMMARY:Stage en Croatie
URL:https://www.glcr.lu/component/rseventspro/evenement/267-stage-en-croati
 e?Itemid=145
END:VEVENT
END:VCALENDAR
