BEGIN:VCALENDAR
VERSION:2.0
PRODID:-//https://www.glcr.lu///NONSGML kigkonsult.se iCalcreator 2.10.15//
METHOD:PUBLISH
BEGIN:VEVENT
UID:20200125T122238CET-1708VOfXee@https://www.glcr.lu/
DTSTAMP:20200125T112238Z
DESCRIPTION:Vous pouvez choisir entre les inscriptions suivantes en sélecti
 onnant le ou les billets avec le bouton 'ajouter les billets'. Ainsi\, vou
 s saurez cumuler l'inscription au Permis Mer et au Test Pratique Permis Me
 r.\n\nPermis Mer\nTest pratique Permis Mer\nA-Mer ou Croisière\nBateau ava
 ncé\nListe d'attente\n\nL'inscription au stage devra impérativement être a
 ccompagnée du payement d'un acompte de 240 € par personne\, https://www.gl
 cr.lu/component/rseventspro/evenement/268-stage-de-pentecote?Itemid=145
DTSTART:20200530T080000Z
DTEND:20200605T130000Z
LOCATION:Sint-Annaland\, Pays-Bas (4697 Sint-Annaland\, The Netherlands)
SUMMARY:Stage de Pentecôte
URL:https://www.glcr.lu/component/rseventspro/evenement/268-stage-de-pentec
 ote?Itemid=145
END:VEVENT
END:VCALENDAR
