BEGIN:VCALENDAR
VERSION:2.0
PRODID:-//https://www.glcr.lu///NONSGML kigkonsult.se iCalcreator 2.10.15//
METHOD:PUBLISH
BEGIN:VEVENT
UID:20200125T122318CET-8862AXUb4a@https://www.glcr.lu/
DTSTAMP:20200125T112318Z
DESCRIPTION:Cette soirée sera animée par deux conférenciers:\n\nUn été en S
 ud-Bretagne et la Vendée. Un film de 35' commenté par Serge Courtois.\nLa 
 rénovation d'un bateau mythique\, le gagnant de la Constitution Race\, Mas
  Que Nada. Le Baltic 42 C&amp\;C a été mis en chantier chez Medembik Yacht
  Service en Hollande. Les premiers navigations sont prévues pour l'été pro
 chain. Exposé par Gérard Tessaro.\n\nA remarquer que les spectateurs vont 
 profiter d'une nouvelle installation écran dernier cri acquis par le GLCR.
  Disponibilté Parking\n https://www.glcr.lu/component/rseventspro/evenemen
 t/269-rencontre-amicale?Itemid=145
DTSTART:20200302T190000Z
DTEND:20200302T225900Z
LOCATION:Centre Culturel 'Am Duerf' (2\, Fond St. Martin\, L-2135 Luxembour
 g)
SUMMARY:Rencontre Amicale
URL:https://www.glcr.lu/component/rseventspro/evenement/269-rencontre-amica
 le?Itemid=145
END:VEVENT
END:VCALENDAR
