BEGIN:VCALENDAR
VERSION:2.0
PRODID:-//https://www.glcr.lu///NONSGML kigkonsult.se iCalcreator 2.10.15//
METHOD:PUBLISH
BEGIN:VEVENT
UID:20200125T122353CET-3425z9TPR5@https://www.glcr.lu/
DTSTAMP:20200125T112353Z
DESCRIPTION:2. Kurstag Samstags\, den 25. Januar 2020. Kursleiter: Patrick 
 Biwer.\nDas UKW-Sprechfunkzeugnis für den Binnenschifffahrtsfunk (UBI) eig
 net sich für sicherheitsbewusste BinnenschifferInnen auf Segel- oder Motor
 yachten welche per Funk die Verbindung zu anderen Schiffen oder Revierzent
 ralen an Land aufrechterhalten möchten und mit ihrem Schiff 'binnen der Gr
 enzen der Seefahrt' bleiben.\nDas Short Range Certificate (SRC) erlaubt di
 e Ausübung des Seefunkdienstes auf Sportschiffen im weltweiten Seenot- und
  Sicherheitsfunksystem GMDSS (Global Maritime Distress and Safety System) 
 auf Ultrakurzwelle (UKW) unter Benutzung von UKW-Funkanlage\, DSC-Controll
 er\, EPIRB\, SART\, NAVTEX und Handsprechfunkgerät. Dieses Zeugnis eignet 
 sich für sicherheitsbewusste NautikerInnen auf Segel- oder Motoryachten we
 lche die Verbindung zu anderen Schiffen oder zu Küstenfunkstellen in einem
  Bereich von ca. 20 bis 50 sm aufrechterhalten möchten und sich mit ihrem 
 Schiff somit hauptsächlich im Küstenbereich bewegen. https://www.glcr.lu/c
 omponent/rseventspro/evenement/270-module-1-ubi-src?Itemid=145
DTSTART:20200118T090000Z
DTEND:20200118T150000Z
LOCATION:Centre Culturel 'Am Duerf' (2\, Fond St. Martin\, L-2135 Luxembour
 g)
SUMMARY:Module 1 UBI + SRC
URL:https://www.glcr.lu/component/rseventspro/evenement/270-module-1-ubi-sr
 c?Itemid=145
END:VEVENT
END:VCALENDAR
