BEGIN:VCALENDAR
VERSION:2.0
PRODID:-//https://www.glcr.lu///NONSGML kigkonsult.se iCalcreator 2.10.15//
METHOD:PUBLISH
BEGIN:VEVENT
UID:20200125T122333CET-9808kvNVGV@https://www.glcr.lu/
DTSTAMP:20200125T112333Z
DESCRIPTION:Datum: 29.2.2020 und 14.3.2020. https://www.glcr.lu/component/r
 seventspro/evenement/271-module-4-theorie-certificat-b?Itemid=145
DTSTART:20200229T080000Z
DTEND:20200229T120000Z
LOCATION:Lycée Josy Barthel Mamer (2\, rue Gaston Thorn\, L-8268 Mamer)
SUMMARY:Module 4 Theorie Certificat B
URL:https://www.glcr.lu/component/rseventspro/evenement/271-module-4-theori
 e-certificat-b?Itemid=145
END:VEVENT
END:VCALENDAR
