BEGIN:VCALENDAR
VERSION:2.0
PRODID:-//https://www.glcr.lu///NONSGML kigkonsult.se iCalcreator 2.10.15//
METHOD:PUBLISH
BEGIN:VEVENT
UID:20200125T122304CET-6853rGV2Aw@https://www.glcr.lu/
DTSTAMP:20200125T112304Z
DESCRIPTION:À choisir son option via 'ajouter ticket': Option 1: Transport 
 par Bus (élèves\, skippers et co-skippers) rendez-vous dimanche\, le 12 av
 ril 2020 à 08:00 sur le parking du Petit Glacis\, départ avec un autocar d
 e 'Vandivinit' et deux Minibus en direction du 'Port le Haliguen'\, retour
  samedi\, le 18 avril à Luxembourg le soir. Option 2: Minibus (3 x 6 perso
 nnes) en direction de Lorient\, rendez-vous samedi\, le 11 avril 2020 à 8:
 00 sur le Park&amp\;Ride du Centre Douanier à Howald\, retour dimanche\, l
 e 19 avril 2020 le soir. Option 3: en privé par vos propres moyens\, gratu
 it. https://www.glcr.lu/component/rseventspro/evenement/272-transport-skip
 per-co-regatta-sailing-schools?Itemid=145
DTSTART:20200410T220000Z
LOCATION:Baie de Quiberon\, Morbihan\, France ()
SUMMARY:Transport Skipper&Co Regatta-Sailing Schools
URL:https://www.glcr.lu/component/rseventspro/evenement/272-transport-skipp
 er-co-regatta-sailing-schools?Itemid=145
END:VEVENT
END:VCALENDAR
