BEGIN:VCALENDAR
VERSION:2.0
PRODID:-//https://www.glcr.lu///NONSGML kigkonsult.se iCalcreator 2.10.15//
METHOD:PUBLISH
BEGIN:VEVENT
UID:20211007T005549CEST-2145WUw0E7@https://www.glcr.lu/
DTSTAMP:20211006T225549Z
DESCRIPTION:Een Törn durch d’Härz vun der Ostsee mat Visiten zu Stockholm\,
  Mariehamn\, Turku\, Helsinki\, Talinn\, Kuressaare a Visby. Dauer vun der
  Rees ca 75 Minuten. Eng Präsentatioun vum Lucien Kail\nA remarquer que le
 s spectateurs vont profiter d'une nouvelle installation écran dernier cri 
 acquis par le GLCR. Disponibilté Parking\n https://www.glcr.lu/component/r
 seventspro/evenement/275-rencontre-amicale
DTSTART:20211108T190000Z
DTEND:20211108T225900Z
LOCATION:Centre Culturel 'Am Duerf' (2\, Fond St. Martin\, L-2135 Luxembour
 g)
SUMMARY:Rencontre Amicale
URL:https://www.glcr.lu/component/rseventspro/evenement/275-rencontre-amica
 le
END:VEVENT
END:VCALENDAR
