BEGIN:VCALENDAR
VERSION:2.0
PRODID:-//https://www.glcr.lu///NONSGML kigkonsult.se iCalcreator 2.10.15//
METHOD:PUBLISH
BEGIN:VEVENT
UID:20211007T005612CEST-1801x0lF7K@https://www.glcr.lu/
DTSTAMP:20211006T225612Z
DESCRIPTION:réservé pour les participants\, aura lieu à Weimerskirch au Cen
 tre Culturel 'Am Duerf' 2\, Fond St. Martin\, L-2135 Luxembourg. Le début 
 de la réunion est prévu pour 18:30.  https://www.glcr.lu/component/rsevent
 spro/evenement/293-reunion-stage-en-croatie
DTSTART:20210921T220000Z
LOCATION:Centre Culturel 'Am Duerf' (2\, Fond St. Martin\, L-2135 Luxembour
 g)
SUMMARY:Reunion Stage  en Croatie
URL:https://www.glcr.lu/component/rseventspro/evenement/293-reunion-stage-e
 n-croatie
END:VEVENT
END:VCALENDAR
